BEGIN:VCALENDAR
VERSION:2.0
PRODID:-//TheTipTop / - ECPv6.15.20//NONSGML v1.0//EN
CALSCALE:GREGORIAN
METHOD:PUBLISH
X-WR-CALNAME:TheTipTop /
X-ORIGINAL-URL:https://xn--thtiptop-c1a.store
X-WR-CALDESC:Évènements pour TheTipTop /
REFRESH-INTERVAL;VALUE=DURATION:PT1H
X-Robots-Tag:noindex
X-PUBLISHED-TTL:PT1H
BEGIN:VTIMEZONE
TZID:UTC
BEGIN:STANDARD
TZOFFSETFROM:+0000
TZOFFSETTO:+0000
TZNAME:UTC
DTSTART:20240101T000000
END:STANDARD
END:VTIMEZONE
BEGIN:VEVENT
DTSTART;VALUE=DATE:20251206
DTEND;VALUE=DATE:20251209
DTSTAMP:20260420T150607
CREATED:20241213T161736Z
LAST-MODIFIED:20241215T180328Z
UID:2008-1764979200-1765238399@xn--thtiptop-c1a.store
SUMMARY:Participation au marché de Noël du Lions Club
DESCRIPTION:Venez nous retrouver au 20ème Marché de Noël du Lions Club à Paris ! 🎄✨ Plongez dans l’ambiance festive et découvrez nos thés raffinés\, parfaits pour offrir ou savourer en cette saison magique. Un moment de partage et de convivialité vous attend au cœur de Paris ! 🎁
URL:https://xn--thtiptop-c1a.store/evenement/participation-au-marche-de-noel-du-lions-club/
LOCATION:Marché de Noël du Lions Club\, 48 rue Vieille du Temple\, Paris\, ïle-de-France\, 75003\, France
ATTACH;FMTTYPE=image/png:https://xn--thtiptop-c1a.store/wp-content/uploads/2024/12/Capture-decran-2024-12-13-a-17.16.54.png
END:VEVENT
END:VCALENDAR